BEGIN:VCALENDAR
VERSION:2.0
PRODID:-//Aloha Section - ECPv6.15.20//NONSGML v1.0//EN
CALSCALE:GREGORIAN
METHOD:PUBLISH
X-ORIGINAL-URL:https://www.aspga.com
X-WR-CALDESC:Events for Aloha Section
REFRESH-INTERVAL;VALUE=DURATION:PT1H
X-Robots-Tag:noindex
X-PUBLISHED-TTL:PT1H
BEGIN:VTIMEZONE
TZID:UTC
BEGIN:STANDARD
TZOFFSETFROM:+0000
TZOFFSETTO:+0000
TZNAME:UTC
DTSTART:20210101T000000
END:STANDARD
END:VTIMEZONE
BEGIN:VEVENT
DTSTART;TZID=UTC:20250616T080000
DTEND;TZID=UTC:20250616T170000
DTSTAMP:20260422T233848
CREATED:20250102T003716Z
LAST-MODIFIED:20250102T003716Z
UID:10000264-1750060800-1750093200@www.aspga.com
SUMMARY:PLAYING ABILITY TEST | HAWAII
DESCRIPTION:
URL:https://www.aspga.com/event/playing-ability-test-hawaii-2/
LOCATION:Waikoloa Village Golf Club\, 68-1798 Melia St.\, Waikoloa Village\, Hawaii\, 96738
GEO:19.9294373;-155.7921574
X-APPLE-STRUCTURED-LOCATION;VALUE=URI;X-ADDRESS=Waikoloa Village Golf Club 68-1798 Melia St. Waikoloa Village Hawaii 96738;X-APPLE-RADIUS=500;X-TITLE=68-1798 Melia St.:geo:-155.7921574,19.9294373
END:VEVENT
BEGIN:VEVENT
DTSTART;TZID=UTC:20231022T080000
DTEND;TZID=UTC:20231023T170000
DTSTAMP:20260422T233848
CREATED:20221201T211253Z
LAST-MODIFIED:20221201T211538Z
UID:10000187-1697961600-1698080400@www.aspga.com
SUMMARY:Waikoloa Invitational
DESCRIPTION:
URL:https://www.aspga.com/event/waikoloa-invitational/
LOCATION:Waikoloa Village Golf Club\, 68-1798 Melia St.\, Waikoloa Village\, Hawaii\, 96738
GEO:19.9294373;-155.7921574
X-APPLE-STRUCTURED-LOCATION;VALUE=URI;X-ADDRESS=Waikoloa Village Golf Club 68-1798 Melia St. Waikoloa Village Hawaii 96738;X-APPLE-RADIUS=500;X-TITLE=68-1798 Melia St.:geo:-155.7921574,19.9294373
END:VEVENT
BEGIN:VEVENT
DTSTART;TZID=UTC:20230612T080000
DTEND;TZID=UTC:20230612T170000
DTSTAMP:20260422T233848
CREATED:20221201T210325Z
LAST-MODIFIED:20221201T210325Z
UID:10000120-1686556800-1686589200@www.aspga.com
SUMMARY:Playing Ability Test - Hawaii
DESCRIPTION:
URL:https://www.aspga.com/event/playing-ability-test-hawaii/
LOCATION:Waikoloa Village Golf Club\, 68-1798 Melia St.\, Waikoloa Village\, Hawaii\, 96738
GEO:19.9294373;-155.7921574
X-APPLE-STRUCTURED-LOCATION;VALUE=URI;X-ADDRESS=Waikoloa Village Golf Club 68-1798 Melia St. Waikoloa Village Hawaii 96738;X-APPLE-RADIUS=500;X-TITLE=68-1798 Melia St.:geo:-155.7921574,19.9294373
END:VEVENT
BEGIN:VEVENT
DTSTART;TZID=UTC:20221028T080000
DTEND;TZID=UTC:20221030T170000
DTSTAMP:20260422T233848
CREATED:20220922T182302Z
LAST-MODIFIED:20220922T182302Z
UID:10000178-1666944000-1667149200@www.aspga.com
SUMMARY:Waikoloa Open
DESCRIPTION:CLICK HERE TO REGISTER
URL:https://www.aspga.com/event/waikoloa-open/
LOCATION:Waikoloa Village Golf Club\, 68-1798 Melia St.\, Waikoloa Village\, Hawaii\, 96738
GEO:19.9294373;-155.7921574
X-APPLE-STRUCTURED-LOCATION;VALUE=URI;X-ADDRESS=Waikoloa Village Golf Club 68-1798 Melia St. Waikoloa Village Hawaii 96738;X-APPLE-RADIUS=500;X-TITLE=68-1798 Melia St.:geo:-155.7921574,19.9294373
END:VEVENT
END:VCALENDAR