BEGIN:VCALENDAR
VERSION:2.0
PRODID:-//Aloha Section - ECPv6.15.20//NONSGML v1.0//EN
CALSCALE:GREGORIAN
METHOD:PUBLISH
X-WR-CALNAME:Aloha Section
X-ORIGINAL-URL:https://www.aspga.com
X-WR-CALDESC:Events for Aloha Section
REFRESH-INTERVAL;VALUE=DURATION:PT1H
X-Robots-Tag:noindex
X-PUBLISHED-TTL:PT1H
BEGIN:VTIMEZONE
TZID:UTC
BEGIN:STANDARD
TZOFFSETFROM:+0000
TZOFFSETTO:+0000
TZNAME:UTC
DTSTART:20200101T000000
END:STANDARD
END:VTIMEZONE
BEGIN:VEVENT
DTSTART;TZID=UTC:20211128T180000
DTEND;TZID=UTC:20211128T190000
DTSTAMP:20260423T052700
CREATED:20210708T213945Z
LAST-MODIFIED:20211103T164721Z
UID:10000152-1638122400-1638126000@www.aspga.com
SUMMARY:ALOHA SECTION ANNUAL MEETING
DESCRIPTION:
URL:https://www.aspga.com/event/aloha-section-annual-meeting/
LOCATION:HUALALAI RESORT\, 100 Kaupulehu Dr\, Kailua-Kona\, HI\, 96740\, United States
GEO:19.827499;-155.9905235
X-APPLE-STRUCTURED-LOCATION;VALUE=URI;X-ADDRESS=HUALALAI RESORT 100 Kaupulehu Dr Kailua-Kona HI 96740 United States;X-APPLE-RADIUS=500;X-TITLE=100 Kaupulehu Dr:geo:-155.9905235,19.827499
END:VEVENT
END:VCALENDAR