BEGIN:VCALENDAR
VERSION:2.0
PRODID:-//Aloha Section - ECPv6.15.20//NONSGML v1.0//EN
CALSCALE:GREGORIAN
METHOD:PUBLISH
X-ORIGINAL-URL:https://www.aspga.com
X-WR-CALDESC:Events for Aloha Section
REFRESH-INTERVAL;VALUE=DURATION:PT1H
X-Robots-Tag:noindex
X-PUBLISHED-TTL:PT1H
BEGIN:VTIMEZONE
TZID:UTC
BEGIN:STANDARD
TZOFFSETFROM:+0000
TZOFFSETTO:+0000
TZNAME:UTC
DTSTART:20240101T000000
END:STANDARD
END:VTIMEZONE
BEGIN:VEVENT
DTSTART;TZID=UTC:20250905T080000
DTEND;TZID=UTC:20250906T170000
DTSTAMP:20260422T080751
CREATED:20250102T010839Z
LAST-MODIFIED:20250102T010839Z
UID:10000288-1757059200-1757178000@www.aspga.com
SUMMARY:ALOHA SECTION STROKE PLAY CHAMPIONSHIP
DESCRIPTION:
URL:https://www.aspga.com/event/aloha-section-stroke-play-championship/
LOCATION:Wailea Golf Club (Gold / Emerald)\, 100 Wailea Golf Club Dr\,\, Wailea\, Hawaii\, 96753
GEO:20.6655974;-156.4357511
X-APPLE-STRUCTURED-LOCATION;VALUE=URI;X-ADDRESS=Wailea Golf Club (Gold / Emerald) 100 Wailea Golf Club Dr Wailea Hawaii 96753;X-APPLE-RADIUS=500;X-TITLE=100 Wailea Golf Club Dr\,:geo:-156.4357511,20.6655974
END:VEVENT
BEGIN:VEVENT
DTSTART;TZID=UTC:20250910T080000
DTEND;TZID=UTC:20250910T170000
DTSTAMP:20260422T080751
CREATED:20250102T011005Z
LAST-MODIFIED:20250102T011005Z
UID:10000289-1757491200-1757523600@www.aspga.com
SUMMARY:HAWAII GOLF INDUSTRY CONFERENCE
DESCRIPTION:
URL:https://www.aspga.com/event/hawaii-golf-industry-conference/
LOCATION:The Kahal Hotel\, 5000 Kahala Avenue\, Honolulu\, Hawaii\, 96816
END:VEVENT
BEGIN:VEVENT
DTSTART;TZID=UTC:20250922T080000
DTEND;TZID=UTC:20250922T170000
DTSTAMP:20260422T080751
CREATED:20250102T011044Z
LAST-MODIFIED:20250102T011044Z
UID:10000291-1758528000-1758560400@www.aspga.com
SUMMARY:PLAYING ABILITY TEST | OAHU (FALL)
DESCRIPTION:
URL:https://www.aspga.com/event/playing-ability-test-oahu-fall/
LOCATION:Waikele Country Club\, 94-200 Paioa Pl\, Waipahu\, Hawaii\, 96767
GEO:21.405156;-158.005975
X-APPLE-STRUCTURED-LOCATION;VALUE=URI;X-ADDRESS=Waikele Country Club 94-200 Paioa Pl Waipahu Hawaii 96767;X-APPLE-RADIUS=500;X-TITLE=94-200 Paioa Pl:geo:-158.005975,21.405156
END:VEVENT
BEGIN:VEVENT
DTSTART;TZID=UTC:20250925T080000
DTEND;TZID=UTC:20250928T170000
DTSTAMP:20260422T080751
CREATED:20250102T011114Z
LAST-MODIFIED:20250102T011114Z
UID:10000292-1758787200-1759078800@www.aspga.com
SUMMARY:RYDER CUP
DESCRIPTION:
URL:https://www.aspga.com/event/ryder-cup/
END:VEVENT
END:VCALENDAR