BEGIN:VCALENDAR
VERSION:2.0
PRODID:-//Aloha Section - ECPv6.15.20//NONSGML v1.0//EN
CALSCALE:GREGORIAN
METHOD:PUBLISH
X-WR-CALNAME:Aloha Section
X-ORIGINAL-URL:https://www.aspga.com
X-WR-CALDESC:Events for Aloha Section
REFRESH-INTERVAL;VALUE=DURATION:PT1H
X-Robots-Tag:noindex
X-PUBLISHED-TTL:PT1H
BEGIN:VTIMEZONE
TZID:UTC
BEGIN:STANDARD
TZOFFSETFROM:+0000
TZOFFSETTO:+0000
TZNAME:UTC
DTSTART:20220101T000000
END:STANDARD
END:VTIMEZONE
BEGIN:VEVENT
DTSTART;TZID=UTC:20230105T080000
DTEND;TZID=UTC:20230105T170000
DTSTAMP:20260420T103459
CREATED:20221201T204936Z
LAST-MODIFIED:20221201T204936Z
UID:10000181-1672905600-1672938000@www.aspga.com
SUMMARY:Sony Open in Hawaii | Pre-Qualifier
DESCRIPTION:
URL:https://www.aspga.com/event/sony-open-in-hawaii-pre-qualifier-3/
LOCATION:KAPOLEI GOLF COURSE\, 91-701 Farrington Hwy\, Kapolei\, Hawaii\, 96707
GEO:21.3438724;-158.0700714
X-APPLE-STRUCTURED-LOCATION;VALUE=URI;X-ADDRESS=KAPOLEI GOLF COURSE 91-701 Farrington Hwy Kapolei Hawaii 96707;X-APPLE-RADIUS=500;X-TITLE=91-701 Farrington Hwy:geo:-158.0700714,21.3438724
END:VEVENT
BEGIN:VEVENT
DTSTART;TZID=UTC:20230105T080000
DTEND;TZID=UTC:20230108T170000
DTSTAMP:20260420T103459
CREATED:20221201T204707Z
LAST-MODIFIED:20221201T204707Z
UID:10000179-1672905600-1673197200@www.aspga.com
SUMMARY:Sentry Tournament of Champions
DESCRIPTION:
URL:https://www.aspga.com/event/sentry-tournament-of-champions-2/
LOCATION:Kapalua Plantation Course\, 2000 Plantation Club Drive\, Lahaina\, 96761
GEO:21.0070838;-156.6403278
X-APPLE-STRUCTURED-LOCATION;VALUE=URI;X-ADDRESS=Kapalua Plantation Course 2000 Plantation Club Drive Lahaina 96761;X-APPLE-RADIUS=500;X-TITLE=2000 Plantation Club Drive:geo:-156.6403278,21.0070838
END:VEVENT
BEGIN:VEVENT
DTSTART;TZID=UTC:20230109T080000
DTEND;TZID=UTC:20230109T170000
DTSTAMP:20260420T103459
CREATED:20221201T205016Z
LAST-MODIFIED:20221201T205016Z
UID:10000182-1673251200-1673283600@www.aspga.com
SUMMARY:Sony Open in Hawaii | Monday Qualifier
DESCRIPTION:
URL:https://www.aspga.com/event/sony-open-in-hawaii-monday-qualifier-2/
LOCATION:HOAKALEI COUNTRY CLUB\, 91-1620 Keoneula Blvd\, Ewa Beach\, HI\, 96706\, United States
GEO:21.3170772;-158.0306499
X-APPLE-STRUCTURED-LOCATION;VALUE=URI;X-ADDRESS=HOAKALEI COUNTRY CLUB 91-1620 Keoneula Blvd Ewa Beach HI 96706 United States;X-APPLE-RADIUS=500;X-TITLE=91-1620 Keoneula Blvd:geo:-158.0306499,21.3170772
END:VEVENT
BEGIN:VEVENT
DTSTART;TZID=UTC:20230112T080000
DTEND;TZID=UTC:20230115T170000
DTSTAMP:20260420T103459
CREATED:20221201T204755Z
LAST-MODIFIED:20221201T204755Z
UID:10000180-1673510400-1673802000@www.aspga.com
SUMMARY:Sony Open in Hawaii
DESCRIPTION:
URL:https://www.aspga.com/event/sony-open-in-hawaii/
LOCATION:Waialae Country Club\, 4997 Kahala Ave\, Honolulu\, Hawaii\, 96818
GEO:21.2718158;-157.7765477
X-APPLE-STRUCTURED-LOCATION;VALUE=URI;X-ADDRESS=Waialae Country Club 4997 Kahala Ave Honolulu Hawaii 96818;X-APPLE-RADIUS=500;X-TITLE=4997 Kahala Ave:geo:-157.7765477,21.2718158
END:VEVENT
END:VCALENDAR