BEGIN:VCALENDAR
VERSION:2.0
PRODID:-//Aloha Section - ECPv6.15.20//NONSGML v1.0//EN
CALSCALE:GREGORIAN
METHOD:PUBLISH
X-WR-CALNAME:Aloha Section
X-ORIGINAL-URL:https://www.aspga.com
X-WR-CALDESC:Events for Aloha Section
REFRESH-INTERVAL;VALUE=DURATION:PT1H
X-Robots-Tag:noindex
X-PUBLISHED-TTL:PT1H
BEGIN:VTIMEZONE
TZID:UTC
BEGIN:STANDARD
TZOFFSETFROM:+0000
TZOFFSETTO:+0000
TZNAME:UTC
DTSTART:20210101T000000
END:STANDARD
END:VTIMEZONE
BEGIN:VEVENT
DTSTART;TZID=UTC:20221201T080000
DTEND;TZID=UTC:20221201T170000
DTSTAMP:20260421T033604
CREATED:20221201T210240Z
LAST-MODIFIED:20221201T210240Z
UID:10000119-1669881600-1669914000@www.aspga.com
SUMMARY:Golf Concepts Pro-Pro Championship
DESCRIPTION:
URL:https://www.aspga.com/event/golf-concepts-pro-pro-championship/
LOCATION:Kaanapali Golf Courses\, 2290 Kaanapali Parkway\, Lahiana\, Hawaii\, 96761
GEO:20.9181745;-156.6909106
X-APPLE-STRUCTURED-LOCATION;VALUE=URI;X-ADDRESS=Kaanapali Golf Courses 2290 Kaanapali Parkway Lahiana Hawaii 96761;X-APPLE-RADIUS=500;X-TITLE=2290 Kaanapali Parkway:geo:-156.6909106,20.9181745
END:VEVENT
BEGIN:VEVENT
DTSTART;TZID=UTC:20221201T080000
DTEND;TZID=UTC:20221201T170000
DTSTAMP:20260421T033604
CREATED:20221201T211101Z
LAST-MODIFIED:20221201T211101Z
UID:10000125-1669881600-1669914000@www.aspga.com
SUMMARY:Section Stroke Play Championship
DESCRIPTION:
URL:https://www.aspga.com/event/section-stroke-play-championship/
LOCATION:Poipu Bay Golf Club\, 2250 Ainako St\, Koloa\, HI\, Koloa\, HI\, 96756\, United States
GEO:21.8775898;-159.4360429
X-APPLE-STRUCTURED-LOCATION;VALUE=URI;X-ADDRESS=Poipu Bay Golf Club 2250 Ainako St Koloa HI Koloa HI 96756 United States;X-APPLE-RADIUS=500;X-TITLE=2250 Ainako St\, Koloa\, HI:geo:-159.4360429,21.8775898
END:VEVENT
END:VCALENDAR