BEGIN:VCALENDAR
VERSION:2.0
PRODID:-//Aloha Section - ECPv6.15.20//NONSGML v1.0//EN
CALSCALE:GREGORIAN
METHOD:PUBLISH
X-WR-CALNAME:Aloha Section
X-ORIGINAL-URL:https://www.aspga.com
X-WR-CALDESC:Events for Aloha Section
REFRESH-INTERVAL;VALUE=DURATION:PT1H
X-Robots-Tag:noindex
X-PUBLISHED-TTL:PT1H
BEGIN:VTIMEZONE
TZID:Pacific/Honolulu
BEGIN:STANDARD
TZOFFSETFROM:-1000
TZOFFSETTO:-1000
TZNAME:HST
DTSTART:20210101T000000
END:STANDARD
END:VTIMEZONE
BEGIN:VTIMEZONE
TZID:UTC
BEGIN:STANDARD
TZOFFSETFROM:+0000
TZOFFSETTO:+0000
TZNAME:UTC
DTSTART:20210101T000000
END:STANDARD
END:VTIMEZONE
BEGIN:VEVENT
DTSTART;TZID=Pacific/Honolulu:20220502T080000
DTEND;TZID=Pacific/Honolulu:20220502T170000
DTSTAMP:20260423T102643
CREATED:20220119T213041Z
LAST-MODIFIED:20220119T213041Z
UID:10000165-1651478400-1651510800@www.aspga.com
SUMMARY:Playing Agility Test - Kauai | The Ocean Course at Hokuala
DESCRIPTION:
URL:https://www.aspga.com/event/playing-agility-test-kauai-the-ocean-course-at-hokuala/
LOCATION:The Ocean Course at Hokuala\, 3351 Ho'Olaulea Way\, Lihue\, Hawaii\, 96766
GEO:21.9700323;-159.3531674
X-APPLE-STRUCTURED-LOCATION;VALUE=URI;X-ADDRESS=The Ocean Course at Hokuala 3351 Ho'Olaulea Way Lihue Hawaii 96766;X-APPLE-RADIUS=500;X-TITLE=3351 Ho'Olaulea Way:geo:-159.3531674,21.9700323
END:VEVENT
BEGIN:VEVENT
DTSTART;TZID=Pacific/Honolulu:20220523T080000
DTEND;TZID=Pacific/Honolulu:20220523T170000
DTSTAMP:20260423T102643
CREATED:20220119T213120Z
LAST-MODIFIED:20220119T213120Z
UID:10000166-1653292800-1653325200@www.aspga.com
SUMMARY:Aloha Section Classic Scramble
DESCRIPTION:
URL:https://www.aspga.com/event/aloha-section-classic-scramble/
LOCATION:MID-PACIFIC COUNTRY CLUB\, 266 KAELEPULU DRIVE\, KAILUA\, HAWAII\, 96734
GEO:21.3911762;-157.720523
X-APPLE-STRUCTURED-LOCATION;VALUE=URI;X-ADDRESS=MID-PACIFIC COUNTRY CLUB 266 KAELEPULU DRIVE KAILUA HAWAII 96734;X-APPLE-RADIUS=500;X-TITLE=266 KAELEPULU DRIVE:geo:-157.720523,21.3911762
END:VEVENT
BEGIN:VEVENT
DTSTART;TZID=UTC:20220528T090000
DTEND;TZID=UTC:20220528T130000
DTSTAMP:20260423T102643
CREATED:20220315T213556Z
LAST-MODIFIED:20220315T234617Z
UID:10000171-1653728400-1653742800@www.aspga.com
SUMMARY:Drive Chip & Putt - Kauai (Hokuala)
DESCRIPTION:
URL:https://www.aspga.com/event/drive-chip-putt-kauai-hokuala/
LOCATION:The Ocean Course at Hokuala\, 3351 Ho'Olaulea Way\, Lihue\, Hawaii\, 96766
GEO:21.9700323;-159.3531674
X-APPLE-STRUCTURED-LOCATION;VALUE=URI;X-ADDRESS=The Ocean Course at Hokuala 3351 Ho'Olaulea Way Lihue Hawaii 96766;X-APPLE-RADIUS=500;X-TITLE=3351 Ho'Olaulea Way:geo:-159.3531674,21.9700323
END:VEVENT
END:VCALENDAR