BEGIN:VCALENDAR
VERSION:2.0
PRODID:-//Aloha Section - ECPv6.15.20//NONSGML v1.0//EN
CALSCALE:GREGORIAN
METHOD:PUBLISH
X-WR-CALNAME:Aloha Section
X-ORIGINAL-URL:https://www.aspga.com
X-WR-CALDESC:Events for Aloha Section
REFRESH-INTERVAL;VALUE=DURATION:PT1H
X-Robots-Tag:noindex
X-PUBLISHED-TTL:PT1H
BEGIN:VTIMEZONE
TZID:UTC
BEGIN:STANDARD
TZOFFSETFROM:+0000
TZOFFSETTO:+0000
TZNAME:UTC
DTSTART:20240101T000000
END:STANDARD
END:VTIMEZONE
BEGIN:VEVENT
DTSTART;TZID=UTC:20250830T080000
DTEND;TZID=UTC:20250831T170000
DTSTAMP:20260423T015135
CREATED:20250102T010212Z
LAST-MODIFIED:20250102T010212Z
UID:10000285-1756540800-1756659600@www.aspga.com
SUMMARY:HAPUNA ROUND-UP
DESCRIPTION:
URL:https://www.aspga.com/event/hapuna-round-up-3/
LOCATION:Hapuna Golf Course\, 62-100 Kaunaʻoa Dr\, Waimea\, Hawaii\, 96743
GEO:19.9965759;-155.8249923
X-APPLE-STRUCTURED-LOCATION;VALUE=URI;X-ADDRESS=Hapuna Golf Course 62-100 Kaunaʻoa Dr Waimea Hawaii 96743;X-APPLE-RADIUS=500;X-TITLE=62-100 Kaunaʻoa Dr:geo:-155.8249923,19.9965759
END:VEVENT
END:VCALENDAR