BEGIN:VCALENDAR
VERSION:2.0
PRODID:-//Aloha Section - ECPv6.15.20//NONSGML v1.0//EN
CALSCALE:GREGORIAN
METHOD:PUBLISH
X-ORIGINAL-URL:https://www.aspga.com
X-WR-CALDESC:Events for Aloha Section
REFRESH-INTERVAL;VALUE=DURATION:PT1H
X-Robots-Tag:noindex
X-PUBLISHED-TTL:PT1H
BEGIN:VTIMEZONE
TZID:UTC
BEGIN:STANDARD
TZOFFSETFROM:+0000
TZOFFSETTO:+0000
TZNAME:UTC
DTSTART:20240101T000000
END:STANDARD
END:VTIMEZONE
BEGIN:VEVENT
DTSTART;TZID=UTC:20250123T080000
DTEND;TZID=UTC:20250125T170000
DTSTAMP:20260422T003756
CREATED:20250102T000925Z
LAST-MODIFIED:20250102T000925Z
UID:10000225-1737619200-1737824400@www.aspga.com
SUMMARY:PGA MERCHANDISE SHOW
DESCRIPTION:
URL:https://www.aspga.com/event/pga-merchandise-show-2/
LOCATION:Orange County Convention Center\, 9800 International Dr\, Orlando\, Florida\, 32819
GEO:28.433823;-81.4727824
X-APPLE-STRUCTURED-LOCATION;VALUE=URI;X-ADDRESS=Orange County Convention Center 9800 International Dr Orlando Florida 32819;X-APPLE-RADIUS=500;X-TITLE=9800 International Dr:geo:-81.4727824,28.433823
END:VEVENT
END:VCALENDAR