BEGIN:VCALENDAR
VERSION:2.0
PRODID:-//Aloha Section - ECPv6.15.20//NONSGML v1.0//EN
CALSCALE:GREGORIAN
METHOD:PUBLISH
X-WR-CALNAME:Aloha Section
X-ORIGINAL-URL:https://www.aspga.com
X-WR-CALDESC:Events for Aloha Section
REFRESH-INTERVAL;VALUE=DURATION:PT1H
X-Robots-Tag:noindex
X-PUBLISHED-TTL:PT1H
BEGIN:VTIMEZONE
TZID:UTC
BEGIN:STANDARD
TZOFFSETFROM:+0000
TZOFFSETTO:+0000
TZNAME:UTC
DTSTART:20230101T000000
END:STANDARD
END:VTIMEZONE
BEGIN:VEVENT
DTSTART;VALUE=DATE:20240608
DTEND;VALUE=DATE:20240610
DTSTAMP:20260422T040407
CREATED:20240525T214337Z
LAST-MODIFIED:20240525T214337Z
UID:10000202-1717804800-1717977599@www.aspga.com
SUMMARY:GOLF CONCEPTS PRO-PRO
DESCRIPTION:
URL:https://www.aspga.com/event/golf-concepts-pro-pro/
LOCATION:The Ocean Course at Hokuala\, 3351 Ho'Olaulea Way\, Lihue\, Hawaii\, 96766
GEO:21.9700323;-159.3531674
X-APPLE-STRUCTURED-LOCATION;VALUE=URI;X-ADDRESS=The Ocean Course at Hokuala 3351 Ho'Olaulea Way Lihue Hawaii 96766;X-APPLE-RADIUS=500;X-TITLE=3351 Ho'Olaulea Way:geo:-159.3531674,21.9700323
END:VEVENT
END:VCALENDAR