BEGIN:VCALENDAR
VERSION:2.0
PRODID:-//Aloha Section - ECPv6.15.20//NONSGML v1.0//EN
CALSCALE:GREGORIAN
METHOD:PUBLISH
X-ORIGINAL-URL:https://www.aspga.com
X-WR-CALDESC:Events for Aloha Section
REFRESH-INTERVAL;VALUE=DURATION:PT1H
X-Robots-Tag:noindex
X-PUBLISHED-TTL:PT1H
BEGIN:VTIMEZONE
TZID:UTC
BEGIN:STANDARD
TZOFFSETFROM:+0000
TZOFFSETTO:+0000
TZNAME:UTC
DTSTART:20230101T000000
END:STANDARD
END:VTIMEZONE
BEGIN:VEVENT
DTSTART;TZID=UTC:20240606T170000
DTEND;TZID=UTC:20240606T183000
DTSTAMP:20260423T132802
CREATED:20240525T214246Z
LAST-MODIFIED:20240525T214246Z
UID:10000201-1717693200-1717698600@www.aspga.com
SUMMARY:ALOHA SECTION PGA SUMMER MEETING (VIRTUAL)
DESCRIPTION:CLICK HERE TO REGISETER
URL:https://www.aspga.com/event/aloha-section-pga-summer-meeting-virtual/
END:VEVENT
END:VCALENDAR