BEGIN:VCALENDAR
VERSION:2.0
PRODID:-//Aloha Section - ECPv6.15.20//NONSGML v1.0//EN
CALSCALE:GREGORIAN
METHOD:PUBLISH
X-WR-CALNAME:Aloha Section
X-ORIGINAL-URL:https://www.aspga.com
X-WR-CALDESC:Events for Aloha Section
REFRESH-INTERVAL;VALUE=DURATION:PT1H
X-Robots-Tag:noindex
X-PUBLISHED-TTL:PT1H
BEGIN:VTIMEZONE
TZID:UTC
BEGIN:STANDARD
TZOFFSETFROM:+0000
TZOFFSETTO:+0000
TZNAME:UTC
DTSTART:20220101T000000
END:STANDARD
END:VTIMEZONE
BEGIN:VEVENT
DTSTART;TZID=UTC:20230502T080000
DTEND;TZID=UTC:20230502T170000
DTSTAMP:20260419T132447
CREATED:20221201T205920Z
LAST-MODIFIED:20221201T205920Z
UID:10000186-1683014400-1683046800@www.aspga.com
SUMMARY:Playing Ability Test - Kauai
DESCRIPTION:
URL:https://www.aspga.com/event/playing-ability-test-kauai/
LOCATION:The Ocean Course at Hokuala\, 3351 Ho'Olaulea Way\, Lihue\, Hawaii\, 96766
GEO:21.9700323;-159.3531674
X-APPLE-STRUCTURED-LOCATION;VALUE=URI;X-ADDRESS=The Ocean Course at Hokuala 3351 Ho'Olaulea Way Lihue Hawaii 96766;X-APPLE-RADIUS=500;X-TITLE=3351 Ho'Olaulea Way:geo:-159.3531674,21.9700323
END:VEVENT
END:VCALENDAR