BEGIN:VCALENDAR
VERSION:2.0
PRODID:-//Aloha Section - ECPv6.15.20//NONSGML v1.0//EN
CALSCALE:GREGORIAN
METHOD:PUBLISH
X-WR-CALNAME:Aloha Section
X-ORIGINAL-URL:https://www.aspga.com
X-WR-CALDESC:Events for Aloha Section
REFRESH-INTERVAL;VALUE=DURATION:PT1H
X-Robots-Tag:noindex
X-PUBLISHED-TTL:PT1H
BEGIN:VTIMEZONE
TZID:UTC
BEGIN:STANDARD
TZOFFSETFROM:+0000
TZOFFSETTO:+0000
TZNAME:UTC
DTSTART:20220101T000000
END:STANDARD
END:VTIMEZONE
BEGIN:VEVENT
DTSTART;TZID=UTC:20230227T080000
DTEND;TZID=UTC:20230227T170000
DTSTAMP:20260419T234638
CREATED:20221201T205601Z
LAST-MODIFIED:20221201T205601Z
UID:10000183-1677484800-1677517200@www.aspga.com
SUMMARY:Playing Ability Test - Oahu
DESCRIPTION:
URL:https://www.aspga.com/event/playing-ability-test-oahu-2/
LOCATION:Waikele Country Club\, 94-200 Paioa Pl\, Waipahu\, Hawaii\, 96767
GEO:21.405156;-158.005975
X-APPLE-STRUCTURED-LOCATION;VALUE=URI;X-ADDRESS=Waikele Country Club 94-200 Paioa Pl Waipahu Hawaii 96767;X-APPLE-RADIUS=500;X-TITLE=94-200 Paioa Pl:geo:-158.005975,21.405156
END:VEVENT
END:VCALENDAR