BEGIN:VCALENDAR
VERSION:2.0
PRODID:-//Aloha Section - ECPv6.15.20//NONSGML v1.0//EN
CALSCALE:GREGORIAN
METHOD:PUBLISH
X-WR-CALNAME:Aloha Section
X-ORIGINAL-URL:https://www.aspga.com
X-WR-CALDESC:Events for Aloha Section
REFRESH-INTERVAL;VALUE=DURATION:PT1H
X-Robots-Tag:noindex
X-PUBLISHED-TTL:PT1H
BEGIN:VTIMEZONE
TZID:UTC
BEGIN:STANDARD
TZOFFSETFROM:+0000
TZOFFSETTO:+0000
TZNAME:UTC
DTSTART:20220101T000000
END:STANDARD
END:VTIMEZONE
BEGIN:VEVENT
DTSTART;TZID=UTC:20230112T080000
DTEND;TZID=UTC:20230115T170000
DTSTAMP:20260420T122707
CREATED:20221201T204755Z
LAST-MODIFIED:20221201T204755Z
UID:10000180-1673510400-1673802000@www.aspga.com
SUMMARY:Sony Open in Hawaii
DESCRIPTION:
URL:https://www.aspga.com/event/sony-open-in-hawaii/
LOCATION:Waialae Country Club\, 4997 Kahala Ave\, Honolulu\, Hawaii\, 96818
GEO:21.2718158;-157.7765477
X-APPLE-STRUCTURED-LOCATION;VALUE=URI;X-ADDRESS=Waialae Country Club 4997 Kahala Ave Honolulu Hawaii 96818;X-APPLE-RADIUS=500;X-TITLE=4997 Kahala Ave:geo:-157.7765477,21.2718158
END:VEVENT
END:VCALENDAR