BEGIN:VCALENDAR
VERSION:2.0
PRODID:-//Aloha Section - ECPv6.15.20//NONSGML v1.0//EN
CALSCALE:GREGORIAN
METHOD:PUBLISH
X-ORIGINAL-URL:https://www.aspga.com
X-WR-CALDESC:Events for Aloha Section
REFRESH-INTERVAL;VALUE=DURATION:PT1H
X-Robots-Tag:noindex
X-PUBLISHED-TTL:PT1H
BEGIN:VTIMEZONE
TZID:UTC
BEGIN:STANDARD
TZOFFSETFROM:+0000
TZOFFSETTO:+0000
TZNAME:UTC
DTSTART:20210101T000000
END:STANDARD
END:VTIMEZONE
BEGIN:VEVENT
DTSTART;TZID=UTC:20220611T120000
DTEND;TZID=UTC:20220813T163000
DTSTAMP:20260422T223355
CREATED:20220315T213448Z
LAST-MODIFIED:20220315T213448Z
UID:10000170-1654948800-1660408200@www.aspga.com
SUMMARY:Kaanapali Pro Pro Classic
DESCRIPTION:
URL:https://www.aspga.com/event/kaanapali-pro-pro-classic/
END:VEVENT
BEGIN:VEVENT
DTSTART;TZID=UTC:20220618T080000
DTEND;TZID=UTC:20220618T170000
DTSTAMP:20260422T223355
CREATED:20220316T000109Z
LAST-MODIFIED:20220316T000109Z
UID:10000173-1655539200-1655571600@www.aspga.com
SUMMARY:Drive Chip & Putt - Hawaii (Hualalai)
DESCRIPTION:
URL:https://www.aspga.com/event/drive-chip-putt-hawaii-hualalai/
LOCATION:FOUR SEASONS HUALALAI\, 72-100 Ka'upulehu Drive\, Kailua-Kona\, HI\, 96740\, United States
GEO:19.8276739;-155.9916716
X-APPLE-STRUCTURED-LOCATION;VALUE=URI;X-ADDRESS=FOUR SEASONS HUALALAI 72-100 Ka'upulehu Drive Kailua-Kona HI 96740 United States;X-APPLE-RADIUS=500;X-TITLE=72-100 Ka'upulehu Drive:geo:-155.9916716,19.8276739
END:VEVENT
END:VCALENDAR