BEGIN:VCALENDAR
VERSION:2.0
PRODID:-//Aloha Section - ECPv6.15.20//NONSGML v1.0//EN
CALSCALE:GREGORIAN
METHOD:PUBLISH
X-WR-CALNAME:Aloha Section
X-ORIGINAL-URL:https://www.aspga.com
X-WR-CALDESC:Events for Aloha Section
REFRESH-INTERVAL;VALUE=DURATION:PT1H
X-Robots-Tag:noindex
X-PUBLISHED-TTL:PT1H
BEGIN:VTIMEZONE
TZID:UTC
BEGIN:STANDARD
TZOFFSETFROM:+0000
TZOFFSETTO:+0000
TZNAME:UTC
DTSTART:20210101T000000
END:STANDARD
END:VTIMEZONE
BEGIN:VEVENT
DTSTART;TZID=UTC:20220603T170000
DTEND;TZID=UTC:20220603T180000
DTSTAMP:20260423T102603
CREATED:20220403T022405Z
LAST-MODIFIED:20220403T022405Z
UID:10000109-1654275600-1654279200@www.aspga.com
SUMMARY:Aloha Section Summer Meeting | Virtual
DESCRIPTION:This meeting will be a virtual meeting beginning at 5:00 PM on June 3 – Friday \n  \nPlease use this LINK to register for the call.
URL:https://www.aspga.com/event/aloha-section-summer-meeting-virtual/
LOCATION:PGA of America\, 100 Ave of the Champions\, Palm Beach Gardens\, FL\, 33418\, United States
GEO:26.8378619;-80.1371449
X-APPLE-STRUCTURED-LOCATION;VALUE=URI;X-ADDRESS=PGA of America 100 Ave of the Champions Palm Beach Gardens FL 33418 United States;X-APPLE-RADIUS=500;X-TITLE=100 Ave of the Champions:geo:-80.1371449,26.8378619
END:VEVENT
END:VCALENDAR